BEGIN:VCALENDAR
VERSION:2.0
PRODID:-//Plone.org//NONSGML plone.app.event//EN
X-WR-TIMEZONE:Europe/Madrid
BEGIN:VEVENT
SUMMARY:Festa al Rial Sa Clavella
DTSTART;TZID=Europe/Madrid;VALUE=DATE-TIME:20240810T000000
DTEND;TZID=Europe/Madrid;VALUE=DATE-TIME:20240810T010000
DTSTAMP;VALUE=DATE-TIME:20260420T165506Z
UID:9152ae6038699da88704e27d08e6d056
CREATED;VALUE=DATE-TIME:20240810T000000Z
CATEGORIES:Festa
LOCATION:Rial Sa Clavella
ORGANIZER:Comissió de festes del Rial Sa Clavella
URL:https://arenysdemar.cat/document.php?id=45985
END:VEVENT
END:VCALENDAR