BEGIN:VCALENDAR
VERSION:2.0
PRODID:-//Plone.org//NONSGML plone.app.event//EN
X-WR-TIMEZONE:Europe/Madrid
BEGIN:VEVENT
SUMMARY:Festa a la Travessera de la Mina
DTSTART;TZID=Europe/Madrid;VALUE=DATE-TIME:20240907T000000
DTEND;TZID=Europe/Madrid;VALUE=DATE-TIME:20240907T010000
DTSTAMP;VALUE=DATE-TIME:20260423T145505Z
UID:7df9a09a3f1b1fa6a1b386a2b217ea9a
CREATED;VALUE=DATE-TIME:20240907T000000Z
CATEGORIES:Festa
LOCATION:Travessera de la Mina
ORGANIZER:Comissió de festes de la Travessera de la Mina
URL:https://arenysdemar.cat/document.php?id=45990
END:VEVENT
END:VCALENDAR