BEGIN:VCALENDAR
VERSION:2.0
PRODID:-//Plone.org//NONSGML plone.app.event//EN
X-WR-TIMEZONE:Europe/Madrid
BEGIN:VEVENT
SUMMARY:36a Mostra de teatre Escolar Juli-Manel Pou Vilabella
DTSTART;TZID=Europe/Madrid;VALUE=DATE-TIME:20240511T180000
DTEND;TZID=Europe/Madrid;VALUE=DATE-TIME:20240511T190000
DTSTAMP;VALUE=DATE-TIME:20260419T143919Z
UID:6a1e5976be3e8a39fe8ee62c5b50eaf7
CREATED;VALUE=DATE-TIME:20240511T000000Z
CATEGORIES:Mostra,Infantils,Teatre
LOCATION:Casal de Joventut Seràfica - Josep Baralt, s/n
ORGANIZER:Homo Teatris, Seràfics i Ajuntament d'Arenys de Mar
COMMENT:Preu: 5&euro;
Durada: També el 12 de maig de 2024
URL:https://arenysdemar.cat/document.php?id=46039
END:VEVENT
END:VCALENDAR