BEGIN:VCALENDAR
VERSION:2.0
PRODID:-//Plone.org//NONSGML plone.app.event//EN
X-WR-TIMEZONE:Europe/Madrid
BEGIN:VEVENT
SUMMARY:Revetlla de Sant Joan
DTSTART;TZID=Europe/Madrid;VALUE=DATE-TIME:20240623T233000
DTEND;TZID=Europe/Madrid;VALUE=DATE-TIME:20240624T003000
DTSTAMP;VALUE=DATE-TIME:20260421T002907Z
UID:d3bc3d8adf2b7c440159a75a2f204fb1
CREATED;VALUE=DATE-TIME:20240623T000000Z
CATEGORIES:Festa
LOCATION:Plaça de les Palmeres
ORGANIZER:Regidoria de Festes i Geganters d'Arenys de Mar
COMMENT:Durada: fins les 5 de la matinada
DESCRIPTION:amb l'orquestra DCovers i els Dj's del Quijote grup
URL:https://arenysdemar.cat/document.php?id=46051
END:VEVENT
END:VCALENDAR