BEGIN:VCALENDAR
VERSION:2.0
PRODID:-//Plone.org//NONSGML plone.app.event//EN
X-WR-TIMEZONE:Europe/Madrid
BEGIN:VEVENT
SUMMARY:Exposició de fotografies d´orquídies
DTSTART;TZID=Europe/Madrid;VALUE=DATE-TIME:20240525T000000
DTEND;TZID=Europe/Madrid;VALUE=DATE-TIME:20240525T010000
DTSTAMP;VALUE=DATE-TIME:20260423T214832Z
UID:5c2d3ef708dca5811f230d74366868fd
CREATED;VALUE=DATE-TIME:20240525T000000Z
CATEGORIES:Exposició
LOCATION:Sala Bótes del CC Calisay - Riera del Pare Fita, 31
ORGANIZER:Regidoria de Cultura
COMMENT:Durada: fins el 26 de maig
DESCRIPTION:d´Alex Alonso
URL:https://arenysdemar.cat/document.php?id=46078
END:VEVENT
END:VCALENDAR