BEGIN:VCALENDAR
VERSION:2.0
PRODID:-//Plone.org//NONSGML plone.app.event//EN
X-WR-TIMEZONE:Europe/Madrid
BEGIN:VEVENT
SUMMARY:Taller continuat d´assessorament i transplantament d´orquídies
DTSTART;TZID=Europe/Madrid;VALUE=DATE-TIME:20240525T100000
DTEND;TZID=Europe/Madrid;VALUE=DATE-TIME:20240525T110000
DTSTAMP;VALUE=DATE-TIME:20260421T204108Z
UID:74787864f984531bdc96d3d10ec077a7
CREATED;VALUE=DATE-TIME:20240525T000000Z
CATEGORIES:Tallers
LOCATION:Sala '1 d'octubre' del C.C.Calisay - Riera Pare Fita, 31
ORGANIZER:Regidoria de Cultura i Aficionats a les Plantes de Col·lecció
COMMENT:Durada: també el dia 26 de maig
DESCRIPTION:A càrrec dels Aficionats a les Plantes de Col·lecció
URL:https://arenysdemar.cat/document.php?id=46079
END:VEVENT
END:VCALENDAR