BEGIN:VCALENDAR
VERSION:2.0
PRODID:-//Plone.org//NONSGML plone.app.event//EN
X-WR-TIMEZONE:Europe/Madrid
BEGIN:VEVENT
SUMMARY:Excursió amb festa a la Vall de Boí
DTSTART;TZID=Europe/Madrid;VALUE=DATE-TIME:20240626T080000
DTEND;TZID=Europe/Madrid;VALUE=DATE-TIME:20240626T090000
DTSTAMP;VALUE=DATE-TIME:20260423T163514Z
UID:bf40b4171b99577de8c6a6f482dbb310
CREATED;VALUE=DATE-TIME:20240626T000000Z
CATEGORIES:Festa
LOCATION:Sortida de la Riera davant del CC Calisay
ORGANIZER:Vocalia de jubilats
COMMENT:Preu: 200 &euro; el socis, o 210 &euro; els no socis
Durada: Dos dies 26 i 27 de juny
URL:https://arenysdemar.cat/document.php?id=46103
END:VEVENT
END:VCALENDAR