BEGIN:VCALENDAR
VERSION:2.0
PRODID:-//Plone.org//NONSGML plone.app.event//EN
X-WR-TIMEZONE:Europe/Madrid
BEGIN:VEVENT
SUMMARY:Festa del soci
DTSTART;TZID=Europe/Madrid;VALUE=DATE-TIME:20240613T120000
DTEND;TZID=Europe/Madrid;VALUE=DATE-TIME:20240613T130000
DTSTAMP;VALUE=DATE-TIME:20260421T010538Z
UID:5d68f1136e8cd4f9fb830c8be7a9e66b
CREATED;VALUE=DATE-TIME:20240613T000000Z
CATEGORIES:Festa
LOCATION:Església de Santa Maria / Restaurant l´Era
ORGANIZER:L´Esplai de la Gent Gran d´Arenys de Mar
COMMENT:Preu: 30&euro;
Durada: fins la tarda
URL:https://arenysdemar.cat/document.php?id=46105
END:VEVENT
END:VCALENDAR