BEGIN:VCALENDAR
VERSION:2.0
PRODID:-//Plone.org//NONSGML plone.app.event//EN
X-WR-TIMEZONE:Europe/Madrid
BEGIN:VEVENT
SUMMARY:Demostració: Cuina d'estiu
DTSTART;TZID=Europe/Madrid;VALUE=DATE-TIME:20240723T190000
DTEND;TZID=Europe/Madrid;VALUE=DATE-TIME:20240723T200000
DTSTAMP;VALUE=DATE-TIME:20260420T205201Z
UID:8131f3199eb0b4ae05586552dcf22d3a
CREATED;VALUE=DATE-TIME:20240723T000000Z
CATEGORIES:Mostra
LOCATION:Biblioplatja - Platja de la Picòrdia
ORGANIZER:Biblioteca - Regidoria de Cultura
DESCRIPTION:a càrrec de Maria Avilés
URL:https://arenysdemar.cat/document.php?id=46173
END:VEVENT
END:VCALENDAR