BEGIN:VCALENDAR
VERSION:2.0
PRODID:-//Plone.org//NONSGML plone.app.event//EN
X-WR-TIMEZONE:Europe/Madrid
BEGIN:VEVENT
SUMMARY:Taller d'escriptura. Escrivim a la Biblioplatja: Els colors de la creativitat
DTSTART;TZID=Europe/Madrid;VALUE=DATE-TIME:20240722T190000
DTEND;TZID=Europe/Madrid;VALUE=DATE-TIME:20240722T200000
DTSTAMP;VALUE=DATE-TIME:20260421T063456Z
UID:6c2687fa9fca7f34dc2719aec624d2ff
CREATED;VALUE=DATE-TIME:20240722T000000Z
CATEGORIES:Literatura,Tallers
LOCATION:Biblioplatja - Platja de la Picòrdia
COMMENT:Preu: Inscripcions a la Biblioteca o a la Biblioplatja. Places limitades
DESCRIPTION:a càrrec de Gemma Tomàs
URL:https://arenysdemar.cat/document.php?id=46174
END:VEVENT
END:VCALENDAR