BEGIN:VCALENDAR
VERSION:2.0
PRODID:-//Plone.org//NONSGML plone.app.event//EN
X-WR-TIMEZONE:Europe/Madrid
BEGIN:VEVENT
SUMMARY:Jornada de neteja popular (Let's clean up Arenys)
DTSTART;TZID=Europe/Madrid;VALUE=DATE-TIME:20240616T103000
DTEND;TZID=Europe/Madrid;VALUE=DATE-TIME:20240616T113000
DTSTAMP;VALUE=DATE-TIME:20260420T171032Z
UID:9fbbef675cda67bc602dcee4401a6be6
CREATED;VALUE=DATE-TIME:20240616T000000Z
CATEGORIES:Esports,Medi ambient
LOCATION:Davant l'Escola Sinera
ORGANIZER:Civisme, AVAM i Medi Ambient
COMMENT:Preu: Gratuït
Durada: 3 hores
DESCRIPTION:Vols contribuir a una vila més neta i amable? Netegem l´entorn del Bareu!
URL:https://arenysdemar.cat/document.php?id=46222
END:VEVENT
END:VCALENDAR