BEGIN:VCALENDAR
VERSION:2.0
PRODID:-//Plone.org//NONSGML plone.app.event//EN
X-WR-TIMEZONE:Europe/Madrid
BEGIN:VEVENT
SUMMARY:Cicle sardanístic
DTSTART;TZID=Europe/Madrid;VALUE=DATE-TIME:20240801T190000
DTEND;TZID=Europe/Madrid;VALUE=DATE-TIME:20240801T200000
DTSTAMP;VALUE=DATE-TIME:20260423T232948Z
UID:9794d1aa0dcf9ecb3ce9198118246aca
CREATED;VALUE=DATE-TIME:20240801T000000Z
CATEGORIES:Dansa
LOCATION:Plaça de l'Església - Plaça de l'Església
ORGANIZER:Regidoria de Cultura i Ateneu Arenyenc
DESCRIPTION:a càrrec de la cobla Osona
URL:https://arenysdemar.cat/document.php?id=46234
END:VEVENT
END:VCALENDAR