BEGIN:VCALENDAR
VERSION:2.0
PRODID:-//Plone.org//NONSGML plone.app.event//EN
X-WR-TIMEZONE:Europe/Madrid
BEGIN:VEVENT
SUMMARY:Taller infantil: Estels de fils
DTSTART;TZID=Europe/Madrid;VALUE=DATE-TIME:20240813T190000
DTEND;TZID=Europe/Madrid;VALUE=DATE-TIME:20240813T200000
DTSTAMP;VALUE=DATE-TIME:20260422T034719Z
UID:1cd4da1dbf7087fd0d2ea1e6b1535976
CREATED;VALUE=DATE-TIME:20240813T000000Z
CATEGORIES:Infantils,Tallers
LOCATION:Biblioplatja - Platja de la Picòrdia
ORGANIZER:Biblioteca - Regidoria de Cultura
DESCRIPTION:a càrrec de Marta Flor
URL:https://arenysdemar.cat/document.php?id=46244
END:VEVENT
END:VCALENDAR