BEGIN:VCALENDAR
VERSION:2.0
PRODID:-//Plone.org//NONSGML plone.app.event//EN
X-WR-TIMEZONE:Europe/Madrid
BEGIN:VEVENT
SUMMARY:Visita guiada Arenys i els 'americanos'
DTSTART;TZID=Europe/Madrid;VALUE=DATE-TIME:20240616T110000
DTEND;TZID=Europe/Madrid;VALUE=DATE-TIME:20240616T120000
DTSTAMP;VALUE=DATE-TIME:20260423T145059Z
UID:1dd62152f79baa5510979710f7b92103
CREATED;VALUE=DATE-TIME:20240616T000000Z
CATEGORIES:Mostra
LOCATION:Altre (ho explico més avall)
ORGANIZER:Ajuntament d'Arenys de Mar
COMMENT:Preu: Cal inscripció prèvia trucant al 937957039 o enviant un correu a turisme@arenysdemar.cat
Durada: 2 hores aproximadament
URL:https://arenysdemar.cat/document.php?id=46258
END:VEVENT
END:VCALENDAR