BEGIN:VCALENDAR
VERSION:2.0
PRODID:-//Plone.org//NONSGML plone.app.event//EN
X-WR-TIMEZONE:Europe/Madrid
BEGIN:VEVENT
SUMMARY:Tardes Infantils: Taller de circ
DTSTART;TZID=Europe/Madrid;VALUE=DATE-TIME:20240804T183000
DTEND;TZID=Europe/Madrid;VALUE=DATE-TIME:20240804T193000
DTSTAMP;VALUE=DATE-TIME:20260422T034821Z
UID:6fa150787727ea21c61c6d1fca91c9a6
CREATED;VALUE=DATE-TIME:20240804T000000Z
CATEGORIES:Infantils
LOCATION:Riera zona nova coberta - Riera zona nova coberta
ORGANIZER:Regidoria de Festes
DESCRIPTION:a càrrec del Circ Petit
URL:https://arenysdemar.cat/document.php?id=46270
END:VEVENT
END:VCALENDAR