BEGIN:VCALENDAR
VERSION:2.0
PRODID:-//Plone.org//NONSGML plone.app.event//EN
X-WR-TIMEZONE:Europe/Madrid
BEGIN:VEVENT
SUMMARY:Tardes Infantils: Jocs gegants
DTSTART;TZID=Europe/Madrid;VALUE=DATE-TIME:20240811T183000
DTEND;TZID=Europe/Madrid;VALUE=DATE-TIME:20240811T193000
DTSTAMP;VALUE=DATE-TIME:20260425T031200Z
UID:f53cf225ad2088ade79c45e006fba177
CREATED;VALUE=DATE-TIME:20240811T000000Z
CATEGORIES:Infantils
LOCATION:Riera zona nova coberta - Riera zona nova coberta
ORGANIZER:Regidoria de Festes
DESCRIPTION:a càrrec de Ludiespai
URL:https://arenysdemar.cat/document.php?id=46271
END:VEVENT
END:VCALENDAR