BEGIN:VCALENDAR
VERSION:2.0
PRODID:-//Plone.org//NONSGML plone.app.event//EN
X-WR-TIMEZONE:Europe/Madrid
BEGIN:VEVENT
SUMMARY:Torneig de Billar a 3 bandes Sant Roc 2024
DTSTART;TZID=Europe/Madrid;VALUE=DATE-TIME:20240815T100000
DTEND;TZID=Europe/Madrid;VALUE=DATE-TIME:20240815T110000
DTSTAMP;VALUE=DATE-TIME:20260423T232649Z
UID:55c132ca16de97e5fe409c940a1c0640
CREATED;VALUE=DATE-TIME:20240815T000000Z
CATEGORIES:Esports
LOCATION:Ateneu Arenyenc - Anselm Clavé, 22
ORGANIZER:Secció de Billar de l'Ateneu
DESCRIPTION:Secció Billar Ateneu - Club Billar Canet de Mar
URL:https://arenysdemar.cat/document.php?id=46325
END:VEVENT
END:VCALENDAR