BEGIN:VCALENDAR
VERSION:2.0
PRODID:-//Plone.org//NONSGML plone.app.event//EN
X-WR-TIMEZONE:Europe/Madrid
BEGIN:VEVENT
SUMMARY:La petjada del passat
DTSTART;TZID=Europe/Madrid;VALUE=DATE-TIME:20241013T100000
DTEND;TZID=Europe/Madrid;VALUE=DATE-TIME:20241013T110000
DTSTAMP;VALUE=DATE-TIME:20260420T152039Z
UID:c522b67579767cef91a519d2e970b8ee
CREATED;VALUE=DATE-TIME:20241013T000000Z
CATEGORIES:Visita guiada
LOCATION:Cementiri d'Arenys de Mar
ORGANIZER:Ajuntament d'Arenys de Mar, Museu d'Arenys de Mar
COMMENT:Preu: Gratuït
Durada: De 10 a 11.30h i de 12 a 13.30h
DESCRIPTION:Visita teatralitzada al cementiri d'Arenys de Mar
URL:https://arenysdemar.cat/document.php?id=46328
END:VEVENT
END:VCALENDAR