BEGIN:VCALENDAR
VERSION:2.0
PRODID:-//Plone.org//NONSGML plone.app.event//EN
X-WR-TIMEZONE:Europe/Madrid
BEGIN:VEVENT
SUMMARY:La gallina dels ous d'or
DTSTART;TZID=Europe/Madrid;VALUE=DATE-TIME:20240929T180000
DTEND;TZID=Europe/Madrid;VALUE=DATE-TIME:20240929T190000
DTSTAMP;VALUE=DATE-TIME:20260424T191956Z
UID:ce4885f36a18139f3bae2ab286fb4ac6
CREATED;VALUE=DATE-TIME:20240929T000000Z
CATEGORIES:Infantils,Teatre
LOCATION:Teatre Principal - C. Església, 45-47
ORGANIZER:Societat Coral l'Esperança i la Regidoria de Cultura
COMMENT:Preu: 6 anticipada, 7 taquilla
DESCRIPTION:de la companyia Zum Zum Teatre.
URL:https://arenysdemar.cat/document.php?id=46437
END:VEVENT
END:VCALENDAR