BEGIN:VCALENDAR
VERSION:2.0
PRODID:-//Plone.org//NONSGML plone.app.event//EN
X-WR-TIMEZONE:Europe/Madrid
BEGIN:VEVENT
SUMMARY:Cera: 500 hores de vol
DTSTART;TZID=Europe/Madrid;VALUE=DATE-TIME:20241115T203000
DTEND;TZID=Europe/Madrid;VALUE=DATE-TIME:20241115T213000
DTSTAMP;VALUE=DATE-TIME:20260424T205331Z
UID:59bacde42350acba9d4706d4ff01d5d8
CREATED;VALUE=DATE-TIME:20241115T000000Z
CATEGORIES:Teatre
LOCATION:Teatre Principal - C. Església, 45-47
ORGANIZER:Regidoria de Cultura i Societat Coral l'Esperança
COMMENT:Preu: 10 anticipat i 12 taquilla
DESCRIPTION:un espectacle de Carlos Gallardo
URL:https://arenysdemar.cat/document.php?id=46443
END:VEVENT
END:VCALENDAR