BEGIN:VCALENDAR
VERSION:2.0
PRODID:-//Plone.org//NONSGML plone.app.event//EN
X-WR-TIMEZONE:Europe/Madrid
BEGIN:VEVENT
SUMMARY:Cösmix
DTSTART;TZID=Europe/Madrid;VALUE=DATE-TIME:20241201T180000
DTEND;TZID=Europe/Madrid;VALUE=DATE-TIME:20241201T190000
DTSTAMP;VALUE=DATE-TIME:20260424T205358Z
UID:ce1f2c10adafca754f5f884d49739968
CREATED;VALUE=DATE-TIME:20241201T000000Z
CATEGORIES:Infantils
LOCATION:Teatre Principal - C. Església, 45-47
ORGANIZER:Regidoria de Cultura i Societat Coral l'Esperança
COMMENT:Preu: 6 anticipada, 7 taquilla
DESCRIPTION:amb Teatre Mòvil
URL:https://arenysdemar.cat/document.php?id=46446
END:VEVENT
END:VCALENDAR