BEGIN:VCALENDAR
VERSION:2.0
PRODID:-//Plone.org//NONSGML plone.app.event//EN
X-WR-TIMEZONE:Europe/Madrid
BEGIN:VEVENT
SUMMARY:Campanya de sensibilització a la convivència i la corresponsabilitat cívica
DTSTART;TZID=Europe/Madrid;VALUE=DATE-TIME:20240925T183000
DTEND;TZID=Europe/Madrid;VALUE=DATE-TIME:20240925T193000
DTSTAMP;VALUE=DATE-TIME:20260424T194431Z
UID:c9fb8fc11ab80067a05eed65d1cdf1d1
CREATED;VALUE=DATE-TIME:20240925T000000Z
CATEGORIES:Conferència
LOCATION:Sala Josep Maria Arnau del C.C.Calisay - Riera del Pare Fita, 31
ORGANIZER:Regidoria de Drets Civils (Civisme)
COMMENT:Preu: Gratuït
DESCRIPTION:Acte de cloenda
URL:https://arenysdemar.cat/document.php?id=46489
END:VEVENT
END:VCALENDAR