BEGIN:VCALENDAR
VERSION:2.0
PRODID:-//Plone.org//NONSGML plone.app.event//EN
X-WR-TIMEZONE:Europe/Madrid
BEGIN:VEVENT
SUMMARY:Tertúlia de novel·la: Les lleialtats de Delphine De Vigan
DTSTART;TZID=Europe/Madrid;VALUE=DATE-TIME:20241014T170000
DTEND;TZID=Europe/Madrid;VALUE=DATE-TIME:20241014T180000
DTSTAMP;VALUE=DATE-TIME:20260424T022809Z
UID:11f83f73a5a2063435897cb35396fbee
CREATED;VALUE=DATE-TIME:20241014T000000Z
CATEGORIES:Literatura
LOCATION:Sala d'Actes de la Biblioteca - C. Bonaire, 3
ORGANIZER:Biblioteca - Regidoria de Cultura
COMMENT:Durada: Segona sessió a les 19h
DESCRIPTION:Moderada per M.Àngels Mora
URL:https://arenysdemar.cat/document.php?id=46499
END:VEVENT
END:VCALENDAR