BEGIN:VCALENDAR
VERSION:2.0
PRODID:-//Plone.org//NONSGML plone.app.event//EN
X-WR-TIMEZONE:Europe/Madrid
BEGIN:VEVENT
SUMMARY:Visita guiada al Gran Teatre del Liceu i al Palau Güell
DTSTART;TZID=Europe/Madrid;VALUE=DATE-TIME:20241128T000000
DTEND;TZID=Europe/Madrid;VALUE=DATE-TIME:20241128T010000
DTSTAMP;VALUE=DATE-TIME:20260424T005713Z
UID:1432c8217a0c909d65673847fd788c91
CREATED;VALUE=DATE-TIME:20241128T000000Z
CATEGORIES:Visita guiada
LOCATION:Riera, davant del C.C. Calisay
ORGANIZER:Aula d'Extensió Universitària d'Arenys de Mar
COMMENT:Preu: Consultar secretaria
DESCRIPTION:Sortides culturals
URL:https://arenysdemar.cat/document.php?id=46501
END:VEVENT
END:VCALENDAR