BEGIN:VCALENDAR
VERSION:2.0
PRODID:-//Plone.org//NONSGML plone.app.event//EN
X-WR-TIMEZONE:Europe/Madrid
BEGIN:VEVENT
SUMMARY:Puig-reig: Visita guiada a la Colònia Vidal (antiga colònia tèxtil)
DTSTART;TZID=Europe/Madrid;VALUE=DATE-TIME:20241024T000000
DTEND;TZID=Europe/Madrid;VALUE=DATE-TIME:20241024T010000
DTSTAMP;VALUE=DATE-TIME:20260421T032351Z
UID:a018c34b4870acab49a6b16142de8804
CREATED;VALUE=DATE-TIME:20241024T000000Z
CATEGORIES:Visita guiada
LOCATION:Riera, davant del C.C. Calisay
ORGANIZER:Aula d'Extensió Universitària d'Arenys de Mar
COMMENT:Preu: Consultar secretaria
DESCRIPTION:Sortides culturals
URL:https://arenysdemar.cat/document.php?id=46502
END:VEVENT
END:VCALENDAR