BEGIN:VCALENDAR
VERSION:2.0
PRODID:-//Plone.org//NONSGML plone.app.event//EN
X-WR-TIMEZONE:Europe/Madrid
BEGIN:VEVENT
SUMMARY:Filosofia: Ciceró, oratòria i filosofia al servei de la política
DTSTART;TZID=Europe/Madrid;VALUE=DATE-TIME:20241112T180000
DTEND;TZID=Europe/Madrid;VALUE=DATE-TIME:20241112T190000
DTSTAMP;VALUE=DATE-TIME:20260420T152326Z
UID:3425e79a88e23a0d8347089fbe23aa4f
CREATED;VALUE=DATE-TIME:20241112T000000Z
CATEGORIES:Conferència
LOCATION:Sala Josep Maria Arnau del C.C.Calisay - Riera del Pare Fita, 31
ORGANIZER:Aula d'Extensió Universitària d'Arenys de Mar
DESCRIPTION:Conferència a càrrec de Joan Manuel del Pozo Àlvarez. Professor Emèrit de la Universitat de Girona
URL:https://arenysdemar.cat/document.php?id=46508
END:VEVENT
END:VCALENDAR