BEGIN:VCALENDAR
VERSION:2.0
PRODID:-//Plone.org//NONSGML plone.app.event//EN
X-WR-TIMEZONE:Europe/Madrid
BEGIN:VEVENT
SUMMARY:Arquitectura: Arquitectura social
DTSTART;TZID=Europe/Madrid;VALUE=DATE-TIME:20241015T180000
DTEND;TZID=Europe/Madrid;VALUE=DATE-TIME:20241015T190000
DTSTAMP;VALUE=DATE-TIME:20260424T094237Z
UID:016b5555888cb06f57bf207d4e327c1c
CREATED;VALUE=DATE-TIME:20241015T000000Z
CATEGORIES:Conferència
LOCATION:Sala Josep Maria Arnau del C.C.Calisay - Riera del Pare Fita, 31
ORGANIZER:Aula d'Extensió Universitària d'Arenys de Mar
DESCRIPTION:Conferència a càrrec de Itziar González Virós. Arquitecta i Urbanista.
URL:https://arenysdemar.cat/document.php?id=46512
END:VEVENT
END:VCALENDAR