BEGIN:VCALENDAR
VERSION:2.0
PRODID:-//Plone.org//NONSGML plone.app.event//EN
X-WR-TIMEZONE:Europe/Madrid
BEGIN:VEVENT
SUMMARY:1a Trobada de Bandes de Música a Arenys de Mar
DTSTART;TZID=Europe/Madrid;VALUE=DATE-TIME:20241005T000000
DTEND;TZID=Europe/Madrid;VALUE=DATE-TIME:20241005T010000
DTSTAMP;VALUE=DATE-TIME:20260421T124859Z
UID:cdd36fdf9556ff477616c45d8f35595e
CREATED;VALUE=DATE-TIME:20241005T000000Z
CATEGORIES:Música
LOCATION:Diversos espais
ORGANIZER:Associació Cultural Sirenenca
COMMENT:Preu: Gratuit
Durada: Des de les 10:30 a les 20:30h
URL:https://arenysdemar.cat/document.php?id=46516
END:VEVENT
END:VCALENDAR