BEGIN:VCALENDAR
VERSION:2.0
PRODID:-//Plone.org//NONSGML plone.app.event//EN
X-WR-TIMEZONE:Europe/Madrid
BEGIN:VEVENT
SUMMARY:Presentació en directe de l´àlbum il·lustrat: La bici de la Lola
DTSTART;TZID=Europe/Madrid;VALUE=DATE-TIME:20240926T173000
DTEND;TZID=Europe/Madrid;VALUE=DATE-TIME:20240926T183000
DTSTAMP;VALUE=DATE-TIME:20260423T194959Z
UID:9e014762d0dbef2efa619fbfb5ef446f
CREATED;VALUE=DATE-TIME:20240926T000000Z
CATEGORIES:Mostra,Conferència
LOCATION:Sala Josep Maria Arnau del C.C.Calisay - Riera del Pare Fita, 31
ORGANIZER:Regidoria d'Igualtat
COMMENT:Preu: Gratuït
DESCRIPTION:Comunicació i prevenció de les violències sexuals a la infància. Adreçat a la comunitat educativa i famílies. A càrrec de les dues autores: Alba Barbé i Laia Pibernat, i amb la il·lustradora en directe: Judit Piella.
URL:https://arenysdemar.cat/document.php?id=46530
END:VEVENT
END:VCALENDAR