BEGIN:VCALENDAR
VERSION:2.0
PRODID:-//Plone.org//NONSGML plone.app.event//EN
X-WR-TIMEZONE:Europe/Madrid
BEGIN:VEVENT
SUMMARY:Taller infantil de joguines amb envasos domèstics
DTSTART;TZID=Europe/Madrid;VALUE=DATE-TIME:20241122T170000
DTEND;TZID=Europe/Madrid;VALUE=DATE-TIME:20241122T180000
DTSTAMP;VALUE=DATE-TIME:20260424T005742Z
UID:2f5d9a64d3b966dd523b7d5775f6e599
CREATED;VALUE=DATE-TIME:20241122T000000Z
CATEGORIES:Infantils,Tallers,Medi ambient
LOCATION:Sala '1 d'octubre' del C.C.Calisay - Riera Pare Fita, 31
ORGANIZER:Àrea de Medi Ambient
COMMENT:Durada: 2 hores
DESCRIPTION:Setmana Europea de la Prevenció de Residus
URL:https://arenysdemar.cat/document.php?id=46531
END:VEVENT
END:VCALENDAR