BEGIN:VCALENDAR
VERSION:2.0
PRODID:-//Plone.org//NONSGML plone.app.event//EN
X-WR-TIMEZONE:Europe/Madrid
BEGIN:VEVENT
SUMMARY:Castaween a la placeta!
DTSTART;TZID=Europe/Madrid;VALUE=DATE-TIME:20241031T170000
DTEND;TZID=Europe/Madrid;VALUE=DATE-TIME:20241031T180000
DTSTAMP;VALUE=DATE-TIME:20260420T153437Z
UID:6d05b5299249a978fd87e411a0d4959d
CREATED;VALUE=DATE-TIME:20241031T000000Z
CATEGORIES:Festa,Tallers
LOCATION:Plaça de l'Església - Plaça de l'Església
ORGANIZER:UBICA i Ajuntament Arenys de Mar
COMMENT:Preu: Gratuït
Durada: Tota la tarda i fins la 1h matinada
DESCRIPTION:El comerç arenyenc celebra la castanyada i halloween!
URL:https://arenysdemar.cat/document.php?id=46553
END:VEVENT
END:VCALENDAR