BEGIN:VCALENDAR
VERSION:2.0
PRODID:-//Plone.org//NONSGML plone.app.event//EN
X-WR-TIMEZONE:Europe/Madrid
BEGIN:VEVENT
SUMMARY:Conferència del doctor Martín Rodrigo Alharilla. Presenta: Antoni Paricio
DTSTART;TZID=Europe/Madrid;VALUE=DATE-TIME:20241004T190000
DTEND;TZID=Europe/Madrid;VALUE=DATE-TIME:20241004T200000
DTSTAMP;VALUE=DATE-TIME:20260424T043924Z
UID:56dc72e72eef85c98f6061ceb9a5868c
CREATED;VALUE=DATE-TIME:20241004T000000Z
CATEGORIES:Conferència
LOCATION:Sala d'actes de l'Ateneu
ORGANIZER:Secció de Cultura de l'Ateneu
COMMENT:Preu: Gratuït
DESCRIPTION:Indians i negrers a la Catalunya del segle XIX, el cas de Josep Xifré (1777-1856)
URL:https://arenysdemar.cat/document.php?id=46610
END:VEVENT
END:VCALENDAR