BEGIN:VCALENDAR
VERSION:2.0
PRODID:-//Plone.org//NONSGML plone.app.event//EN
X-WR-TIMEZONE:Europe/Madrid
BEGIN:VEVENT
SUMMARY:Passa de la llauna
DTSTART;TZID=Europe/Madrid;VALUE=DATE-TIME:20241005T173000
DTEND;TZID=Europe/Madrid;VALUE=DATE-TIME:20241005T183000
DTSTAMP;VALUE=DATE-TIME:20260420T143202Z
UID:e4274cbd7b823c2bf1bb9295ea9311ca
CREATED;VALUE=DATE-TIME:20241005T000000Z
CATEGORIES:Tallers
LOCATION:Espai Jove del C.C.Calisay - Riera del Pare Fita, 31
ORGANIZER:Espai Jove
COMMENT:Durada: Fins a les 20h
DESCRIPTION:Taller de Begudes Estimulants
URL:https://arenysdemar.cat/document.php?id=46616
END:VEVENT
END:VCALENDAR