BEGIN:VCALENDAR
VERSION:2.0
PRODID:-//Plone.org//NONSGML plone.app.event//EN
X-WR-TIMEZONE:Europe/Madrid
BEGIN:VEVENT
SUMMARY:Ballada Country i Line Dance a l'Ateneu
DTSTART;TZID=Europe/Madrid;VALUE=DATE-TIME:20241026T213000
DTEND;TZID=Europe/Madrid;VALUE=DATE-TIME:20241026T223000
DTSTAMP;VALUE=DATE-TIME:20260419T164154Z
UID:af10693452cf53516f245cc291230def
CREATED;VALUE=DATE-TIME:20241026T000000Z
CATEGORIES:Festa
LOCATION:Sala d'actes de l'Ateneu
ORGANIZER:Ateneu Arenyenc i M. Carme Gimeno
COMMENT:Preu: Preu únic: 5&euro;. Hi haurà servei de bar
DESCRIPTION:amb M. Carme Gimeno
URL:https://arenysdemar.cat/document.php?id=46705
END:VEVENT
END:VCALENDAR