BEGIN:VCALENDAR
VERSION:2.0
PRODID:-//Plone.org//NONSGML plone.app.event//EN
X-WR-TIMEZONE:Europe/Madrid
BEGIN:VEVENT
SUMMARY:Visita guiada al centre de valorització de residus municipals del Maresme
DTSTART;TZID=Europe/Madrid;VALUE=DATE-TIME:20241123T094500
DTEND;TZID=Europe/Madrid;VALUE=DATE-TIME:20241123T104500
DTSTAMP;VALUE=DATE-TIME:20260420T165440Z
UID:54b653dd9cb2c205e107b8841087f7d0
CREATED;VALUE=DATE-TIME:20241123T000000Z
CATEGORIES:Visita guiada,Medi ambient
LOCATION:Davant del Calisay (punt de trobada)
ORGANIZER:Ajuntament d'Arenys de Mar
COMMENT:Preu: Gratuït
Durada: 2 hores i 30 minuts (+ 30 minuts de desplaçament amb autocar)
DESCRIPTION:Sortida amb autocar a Mataró
URL:https://arenysdemar.cat/document.php?id=46772
END:VEVENT
END:VCALENDAR