BEGIN:VCALENDAR
VERSION:2.0
PRODID:-//Plone.org//NONSGML plone.app.event//EN
X-WR-TIMEZONE:Europe/Madrid
BEGIN:VEVENT
SUMMARY:Mes de la Gent Gran- Xerrada Serveis Socials.
DTSTART;TZID=Europe/Madrid;VALUE=DATE-TIME:20241112T100000
DTEND;TZID=Europe/Madrid;VALUE=DATE-TIME:20241112T110000
DTSTAMP;VALUE=DATE-TIME:20260423T134355Z
UID:dda455ea574a777b6f185d6ad90a1bff
CREATED;VALUE=DATE-TIME:20241112T000000Z
CATEGORIES:Conferència
LOCATION:Sala Noble del C.C.Calisay - Riera Pare Fita, 31
ORGANIZER:Regidoria de la Gent Gran amb la col·laboració de l´equip d´Acció Social: Serveis Socials.
URL:https://arenysdemar.cat/document.php?id=46778
END:VEVENT
END:VCALENDAR