BEGIN:VCALENDAR
VERSION:2.0
PRODID:-//Plone.org//NONSGML plone.app.event//EN
X-WR-TIMEZONE:Europe/Madrid
BEGIN:VEVENT
SUMMARY:Conferència: Educació Emocional: Sentim, Pensem i Actuem
DTSTART;TZID=Europe/Madrid;VALUE=DATE-TIME:20250321T000000
DTEND;TZID=Europe/Madrid;VALUE=DATE-TIME:20250321T010000
DTSTAMP;VALUE=DATE-TIME:20260420T190321Z
UID:f5ba713a623713805888f82f83f05033
CREATED;VALUE=DATE-TIME:20250321T000000Z
CATEGORIES:Conferència
LOCATION:Biblioteca - Bonaire, 2
ORGANIZER:Col·lectiu de reflexió sobre la infància i adolescència
COMMENT:Durada: una hora
URL:https://arenysdemar.cat/document.php?id=46869
END:VEVENT
END:VCALENDAR