BEGIN:VCALENDAR
VERSION:2.0
PRODID:-//Plone.org//NONSGML plone.app.event//EN
X-WR-TIMEZONE:Europe/Madrid
BEGIN:VEVENT
SUMMARY:Conferència: Inici de la vida: embaràs i pospart
DTSTART;TZID=Europe/Madrid;VALUE=DATE-TIME:20250221T180000
DTEND;TZID=Europe/Madrid;VALUE=DATE-TIME:20250221T190000
DTSTAMP;VALUE=DATE-TIME:20260420T153324Z
UID:1246e7e368f6d408b48cd2ad4a483929
CREATED;VALUE=DATE-TIME:20250221T000000Z
CATEGORIES:Conferència
LOCATION:Biblioteca - Bonaire, 2
ORGANIZER:Col·lectiu de reflexió sobre la infància i adolescència
COMMENT:Durada: una hora
URL:https://arenysdemar.cat/document.php?id=46870
END:VEVENT
END:VCALENDAR