BEGIN:VCALENDAR
VERSION:2.0
PRODID:-//Plone.org//NONSGML plone.app.event//EN
X-WR-TIMEZONE:Europe/Madrid
BEGIN:VEVENT
SUMMARY:Hora del conte: Històries d'un jardí
DTSTART;TZID=Europe/Madrid;VALUE=DATE-TIME:20250123T180000
DTEND;TZID=Europe/Madrid;VALUE=DATE-TIME:20250123T190000
DTSTAMP;VALUE=DATE-TIME:20260421T195042Z
UID:67f707c1e24ce39e8b549e1b90d99b17
CREATED;VALUE=DATE-TIME:20250123T000000Z
CATEGORIES:Infantils
LOCATION:Sala d'Actes de la Biblioteca - C. Bonaire, 3
ORGANIZER:Biblioteca - Regidoria de Cultura
DESCRIPTION:A càrrec de l'Eva González. Activitat recomanada per a infants d'1 a 3 anys
URL:https://arenysdemar.cat/document.php?id=46975
END:VEVENT
END:VCALENDAR