BEGIN:VCALENDAR
VERSION:2.0
PRODID:-//Plone.org//NONSGML plone.app.event//EN
X-WR-TIMEZONE:Europe/Madrid
BEGIN:VEVENT
SUMMARY:Música: El Renaixement, el so de les capelles i les catedrals
DTSTART;TZID=Europe/Madrid;VALUE=DATE-TIME:20250221T180000
DTEND;TZID=Europe/Madrid;VALUE=DATE-TIME:20250221T190000
DTSTAMP;VALUE=DATE-TIME:20260420T104415Z
UID:972d76f0a70b3bb3bf9fd301f324c15f
CREATED;VALUE=DATE-TIME:20250221T000000Z
CATEGORIES:Conferència
LOCATION:Sala Noble del C.C.Calisay - Riera Pare Fita, 31
ORGANIZER:Aula d'Extensió Universitària d'Arenys de Mar
DESCRIPTION:a càrrec de Joan Vives Bellalta, divulgador musical
URL:https://arenysdemar.cat/document.php?id=47055
END:VEVENT
END:VCALENDAR