BEGIN:VCALENDAR
VERSION:2.0
PRODID:-//Plone.org//NONSGML plone.app.event//EN
X-WR-TIMEZONE:Europe/Madrid
BEGIN:VEVENT
SUMMARY:Fira gastronòmica: El despertar del paladar
DTSTART;TZID=Europe/Madrid;VALUE=DATE-TIME:20250504T000000
DTEND;TZID=Europe/Madrid;VALUE=DATE-TIME:20250504T010000
DTSTAMP;VALUE=DATE-TIME:20260423T132737Z
UID:1f4f4543f0346710992d318a26079267
CREATED;VALUE=DATE-TIME:20250504T000000Z
CATEGORIES:Mostra
LOCATION:Plaça de l'Església - Plaça de l'Església
ORGANIZER:Crisàlide
COMMENT:Durada: Tot el dia
URL:https://arenysdemar.cat/document.php?id=47086
END:VEVENT
END:VCALENDAR