BEGIN:VCALENDAR
VERSION:2.0
PRODID:-//Plone.org//NONSGML plone.app.event//EN
X-WR-TIMEZONE:Europe/Madrid
BEGIN:VEVENT
SUMMARY:Fira d'Artesania
DTSTART;TZID=Europe/Madrid;VALUE=DATE-TIME:20250803T000000
DTEND;TZID=Europe/Madrid;VALUE=DATE-TIME:20250803T010000
DTSTAMP;VALUE=DATE-TIME:20260423T214609Z
UID:327e50614297531c9c862aca65b5645a
CREATED;VALUE=DATE-TIME:20250803T000000Z
CATEGORIES:Mostra
LOCATION:Part baixa de la Riera
ORGANIZER:Crisàlide
COMMENT:Durada: Tot el dia
URL:https://arenysdemar.cat/document.php?id=47090
END:VEVENT
END:VCALENDAR