BEGIN:VCALENDAR
VERSION:2.0
PRODID:-//Plone.org//NONSGML plone.app.event//EN
X-WR-TIMEZONE:Europe/Madrid
BEGIN:VEVENT
SUMMARY:Fira de Brocanters
DTSTART;TZID=Europe/Madrid;VALUE=DATE-TIME:20250209T100000
DTEND;TZID=Europe/Madrid;VALUE=DATE-TIME:20250209T110000
DTSTAMP;VALUE=DATE-TIME:20260420T204037Z
UID:d73cedeca6413e89848f000d667b4d65
CREATED;VALUE=DATE-TIME:20250209T000000Z
CATEGORIES:Mostra
LOCATION:Riera, davant del C.C. Calisay
ORGANIZER:Crisàlide
COMMENT:Durada: Fins a les 14h del migdia
URL:https://arenysdemar.cat/document.php?id=47126
END:VEVENT
END:VCALENDAR