BEGIN:VCALENDAR
VERSION:2.0
PRODID:-//Plone.org//NONSGML plone.app.event//EN
X-WR-TIMEZONE:Europe/Madrid
BEGIN:VEVENT
SUMMARY:Romeu i Julieta de Sergey Prohofiev
DTSTART;TZID=Europe/Madrid;VALUE=DATE-TIME:20250320T201500
DTEND;TZID=Europe/Madrid;VALUE=DATE-TIME:20250320T211500
DTSTAMP;VALUE=DATE-TIME:20260422T213250Z
UID:b25b40b5a9f5be25d4cd3455875aba9f
CREATED;VALUE=DATE-TIME:20250320T000000Z
CATEGORIES:Cinema
LOCATION:Teatre Principal - C. Església, 45-47
ORGANIZER:Societat Coral l'Esperança i Regidoria de Cultura
COMMENT:Preu: 15&euro; anticipada i 17&euro; taquilla
DESCRIPTION:Retransmissió en directe des de la Royal Opera House de Londres
URL:https://arenysdemar.cat/document.php?id=47147
END:VEVENT
END:VCALENDAR