BEGIN:VCALENDAR
VERSION:2.0
PRODID:-//Plone.org//NONSGML plone.app.event//EN
X-WR-TIMEZONE:Europe/Madrid
BEGIN:VEVENT
SUMMARY:La nena dels pardals
DTSTART;TZID=Europe/Madrid;VALUE=DATE-TIME:20250216T180000
DTEND;TZID=Europe/Madrid;VALUE=DATE-TIME:20250216T190000
DTSTAMP;VALUE=DATE-TIME:20260420T183843Z
UID:2c1fbf607d7b83db800ada5fe5d9bf16
CREATED;VALUE=DATE-TIME:20250216T000000Z
CATEGORIES:Infantils
LOCATION:Teatre Principal - C. Església, 45-47
ORGANIZER:Societat Coral l'Esperança i la Regidoria de Cultura
COMMENT:Preu: 6&euro; anticipada, 7&euro; taquilla
DESCRIPTION:amb Teatre al Detall i la Tresca i la Verdesca
URL:https://arenysdemar.cat/document.php?id=47152
END:VEVENT
END:VCALENDAR