BEGIN:VCALENDAR
VERSION:2.0
PRODID:-//Plone.org//NONSGML plone.app.event//EN
X-WR-TIMEZONE:Europe/Madrid
BEGIN:VEVENT
SUMMARY:Festa
DTSTART;TZID=Europe/Madrid;VALUE=DATE-TIME:20250212T080000
DTEND;TZID=Europe/Madrid;VALUE=DATE-TIME:20250212T090000
DTSTAMP;VALUE=DATE-TIME:20260423T121806Z
UID:187db2eff05f29909bd5dbbf74b923be
CREATED;VALUE=DATE-TIME:20250212T000000Z
CATEGORIES:Festa
LOCATION:Sortida de la Riera davant del CC Calisay
ORGANIZER:Vocalia de Jubilats
COMMENT:Preu: 75&euro; els socis i 80&euro; els no socis
Durada: Tot el dia
DESCRIPTION:La calçotada
URL:https://arenysdemar.cat/document.php?id=47187
END:VEVENT
END:VCALENDAR