BEGIN:VCALENDAR
VERSION:2.0
PRODID:-//Plone.org//NONSGML plone.app.event//EN
X-WR-TIMEZONE:Europe/Madrid
BEGIN:VEVENT
SUMMARY:Balls de Carnaval: Pentina el Gat, Vizuri i Dj Àlex Argemí
DTSTART;TZID=Europe/Madrid;VALUE=DATE-TIME:20250301T190000
DTEND;TZID=Europe/Madrid;VALUE=DATE-TIME:20250301T200000
DTSTAMP;VALUE=DATE-TIME:20260425T214914Z
UID:a98790aa54f969933c3f9c0128424aba
CREATED;VALUE=DATE-TIME:20250301T000000Z
CATEGORIES:Festa
LOCATION:Plaça de l'Església - Plaça de l'Església
ORGANIZER:Regidoria de Festes i Arenys Bàsquet
COMMENT:Durada: fins la 1 de la matinada
DESCRIPTION:Balla i gaudeix de la Festa
URL:https://arenysdemar.cat/document.php?id=47194
END:VEVENT
END:VCALENDAR