BEGIN:VCALENDAR
VERSION:2.0
PRODID:-//Plone.org//NONSGML plone.app.event//EN
X-WR-TIMEZONE:Europe/Madrid
BEGIN:VEVENT
SUMMARY:Cercavila ball de cançons
DTSTART;TZID=Europe/Madrid;VALUE=DATE-TIME:20250303T190000
DTEND;TZID=Europe/Madrid;VALUE=DATE-TIME:20250303T200000
DTSTAMP;VALUE=DATE-TIME:20260424T220730Z
UID:74b8fdc434f0165276674c37aab96d96
CREATED;VALUE=DATE-TIME:20250303T000000Z
CATEGORIES:Mostra
LOCATION:Inici al pati del Calisay
ORGANIZER:Regodoria de Festes i l'Ass.Ca la Rita
DESCRIPTION:Canta amb nosaltres les cançons del carnaval arenyenc
URL:https://arenysdemar.cat/document.php?id=47195
END:VEVENT
END:VCALENDAR