BEGIN:VCALENDAR
VERSION:2.0
PRODID:-//Plone.org//NONSGML plone.app.event//EN
X-WR-TIMEZONE:Europe/Madrid
BEGIN:VEVENT
SUMMARY:Testament d'en Carnestoltes
DTSTART;TZID=Europe/Madrid;VALUE=DATE-TIME:20250305T193000
DTEND;TZID=Europe/Madrid;VALUE=DATE-TIME:20250305T203000
DTSTAMP;VALUE=DATE-TIME:20260425T051942Z
UID:5916f3211f36737009d2a459ba314ee4
CREATED;VALUE=DATE-TIME:20250305T000000Z
CATEGORIES:Festa
LOCATION:Pati del C.C.Calisay - Riera del Pare Fita, 31
ORGANIZER:Regidoria de Festes i Seràfics
DESCRIPTION:a càrrec del Seràfics
URL:https://arenysdemar.cat/document.php?id=47200
END:VEVENT
END:VCALENDAR