BEGIN:VCALENDAR
VERSION:2.0
PRODID:-//Plone.org//NONSGML plone.app.event//EN
X-WR-TIMEZONE:Europe/Madrid
BEGIN:VEVENT
SUMMARY:Intel·ligència Artificial Aplicada (ChatGPT)
DTSTART;TZID=Europe/Madrid;VALUE=DATE-TIME:20250228T190000
DTEND;TZID=Europe/Madrid;VALUE=DATE-TIME:20250228T200000
DTSTAMP;VALUE=DATE-TIME:20260419T223929Z
UID:758a83a9c69825fdd8b1d09b6b8f2ead
CREATED;VALUE=DATE-TIME:20250228T000000Z
CATEGORIES:Conferència
LOCATION:Sala d'actes de l'Ateneu
ORGANIZER:Secció de Cultura de l'Ateneu
COMMENT:Preu: Gratuït
DESCRIPTION:Conferència d'en Carles Ubach, enginyer industrial i President del Club Nàutic d'Arenys
URL:https://arenysdemar.cat/document.php?id=47205
END:VEVENT
END:VCALENDAR